BEGIN:VCALENDAR
VERSION:2.0
PRODID:-//Optical Disaster - ECPv6.15.18//NONSGML v1.0//EN
CALSCALE:GREGORIAN
METHOD:PUBLISH
X-WR-CALNAME:Optical Disaster
X-ORIGINAL-URL:https://optical-disaster.de
X-WR-CALDESC:Veranstaltungen für Optical Disaster
REFRESH-INTERVAL;VALUE=DURATION:PT1H
X-Robots-Tag:noindex
X-PUBLISHED-TTL:PT1H
BEGIN:VTIMEZONE
TZID:Europe/Paris
BEGIN:DAYLIGHT
TZOFFSETFROM:+0100
TZOFFSETTO:+0200
TZNAME:CEST
DTSTART:20250330T010000
END:DAYLIGHT
BEGIN:STANDARD
TZOFFSETFROM:+0200
TZOFFSETTO:+0100
TZNAME:CET
DTSTART:20251026T010000
END:STANDARD
BEGIN:DAYLIGHT
TZOFFSETFROM:+0100
TZOFFSETTO:+0200
TZNAME:CEST
DTSTART:20260329T010000
END:DAYLIGHT
BEGIN:STANDARD
TZOFFSETFROM:+0200
TZOFFSETTO:+0100
TZNAME:CET
DTSTART:20261025T010000
END:STANDARD
BEGIN:DAYLIGHT
TZOFFSETFROM:+0100
TZOFFSETTO:+0200
TZNAME:CEST
DTSTART:20270328T010000
END:DAYLIGHT
BEGIN:STANDARD
TZOFFSETFROM:+0200
TZOFFSETTO:+0100
TZNAME:CET
DTSTART:20271031T010000
END:STANDARD
END:VTIMEZONE
BEGIN:VEVENT
DTSTART;TZID=Europe/Paris:20260430T190000
DTEND;TZID=Europe/Paris:20260430T230000
DTSTAMP:20260422T153711
CREATED:20260405T161332Z
LAST-MODIFIED:20260405T161332Z
UID:1555-1777575600-1777590000@optical-disaster.de
SUMMARY:Friedrichstraßenfest
DESCRIPTION:
URL:https://optical-disaster.de/event/friedrichstrassenfest-2/
LOCATION:Friedrichstraßenfest\, Haan
END:VEVENT
BEGIN:VEVENT
DTSTART;TZID=Europe/Paris:20260620T190000
DTEND;TZID=Europe/Paris:20260620T233000
DTSTAMP:20260422T153711
CREATED:20260204T180139Z
LAST-MODIFIED:20260205T185853Z
UID:1542-1781982000-1781998200@optical-disaster.de
SUMMARY:Brunnenfest Hilgen
DESCRIPTION:
URL:https://optical-disaster.de/event/brunnenfest-hilden/
LOCATION:Hilgen\, Burscheid\, Hilgen\, Burscheid
END:VEVENT
BEGIN:VEVENT
DTSTART;TZID=Europe/Paris:20261002T190000
DTEND;TZID=Europe/Paris:20261002T233000
DTSTAMP:20260422T153711
CREATED:20260204T180431Z
LAST-MODIFIED:20260204T180431Z
UID:1547-1790967600-1790983800@optical-disaster.de
SUMMARY:Erntedankfest Witzhelden
DESCRIPTION:
URL:https://optical-disaster.de/event/erntedankfest-witzhelden-3/
LOCATION:Erntedankfest\, Witzhelden
END:VEVENT
END:VCALENDAR